BEGIN:VCALENDAR
VERSION:2.0
PRODID:-//Library Market//iCal Export//EN
BEGIN:VEVENT
SUMMARY:Monday Makers: Strawberries &amp; Cream
UID:28162
DTSTAMP:20260420T070400Z
DTSTART:20260504T193000Z
DTEND:20260504T203000Z
LOCATION:Stilwell Public Library, 5 North 6th St, Stilwell, OK 74960, Unit
 ed States
ROOM: Children&#039;s Area
DESCRIPTION:STEM activities ages 5-13
URL:https://eols.librarycalendar.com/event/monday-makers-28162
END:VEVENT
END:VCALENDAR
