BEGIN:VCALENDAR
VERSION:2.0
PRODID:-//Library Market//iCal Export//EN
BEGIN:VEVENT
SUMMARY:Story Time: Strawberry
UID:31288
DTSTAMP:20260421T182200Z
DTSTART:20260429T150000Z
DTEND:20260429T153000Z
LOCATION:John F. Henderson Public Library, 1152 North Williams Avenue, Wes
 tville, OK 74965, United States
ROOM: Story Time: Strawberry
DESCRIPTION:Join us for stories, songs, and activities.
URL:https://eols.librarycalendar.com/event/story-time-31288
END:VEVENT
END:VCALENDAR
