BEGIN:VCALENDAR
VERSION:2.0
PRODID:-//Library Market//iCal Export//EN
BEGIN:VEVENT
SUMMARY:Meet Your Candidate Forum
UID:32331
DTSTAMP:20260422T034100Z
DTSTART:20260428T230000Z
DTEND:20260429T010000Z
LOCATION:Stilwell Public Library, 5 North 6th St, Stilwell, OK 74960, Unit
 ed States
ROOM: Community Room
DESCRIPTION:Meet your June primary candidates.
URL:https://eols.librarycalendar.com/event/meet-your-candidate-forum-32331
END:VEVENT
END:VCALENDAR
