BEGIN:VCALENDAR
VERSION:2.0
PRODID:-//Library Market//iCal Export//EN
BEGIN:VEVENT
SUMMARY:COMMUNITY MEETING: Qi Gong Exercise Group
UID:32372
DTSTAMP:20260425T163000Z
DTSTART:20260515T150000Z
DTEND:20260515T160000Z
LOCATION:Tahlequah Public Library, 120 South College Avenue, Tahlequah, OK
  74464, United States
ROOM: Carnegie Room
DESCRIPTION:Group practice of Qi Gong, with the group following videos of 
 Qi Gong experts like Lee Holden.\r\nQi Gong (generally pronounced “Chee 
 Gong”) is an ancient Chinese movement practice, with some similarities t
 o Tai Chi which it predates.  A broad range of physical fitness levels are
  supported, and many of the movements could be performed while seated.
URL:https://eols.librarycalendar.com/event/qi-gong-exercise-group-32372
END:VEVENT
END:VCALENDAR
