BEGIN:VCALENDAR
VERSION:2.0
PRODID:-//Library Market//iCal Export//EN
BEGIN:VEVENT
SUMMARY:PAWsitively Wild Animals
UID:32402
DTSTAMP:20260421T182200Z
DTSTART:20260601T160000Z
DTEND:20260601T170000Z
LOCATION:Muskogee Public Library, 801 West Okmulgee Avenue, Muskogee, OK 7
 4401, United States
ROOM: Children&#039;s Department
DESCRIPTION:
URL:https://eols.librarycalendar.com/event/pawsitively-wild-animals-32402
END:VEVENT
END:VCALENDAR
