BEGIN:VCALENDAR
VERSION:2.0
PRODID:-//Library Market//iCal Export//EN
BEGIN:VEVENT
SUMMARY:Great Hare-itage
UID:32404
DTSTAMP:20260424T195300Z
DTSTART:20260523T160000Z
DTEND:20260523T190000Z
LOCATION:Muskogee Public Library, 801 West Okmulgee Avenue, Muskogee, OK 7
 4401, United States
ROOM: Southeast Room
DESCRIPTION:Dive down the rabbit hole with the Oklahoma Angora Guild. Meet
  the rabbits and discover the joy of fiber arts. 
URL:https://eols.librarycalendar.com/event/great-hare-itage-32404
END:VEVENT
END:VCALENDAR
