BEGIN:VCALENDAR
VERSION:2.0
PRODID:-//Library Market//iCal Export//EN
BEGIN:VEVENT
SUMMARY:Remembering Hyde Park
UID:32485
DTSTAMP:20260422T192300Z
DTSTART:20260620T160000Z
DTEND:20260620T170000Z
LOCATION:Muskogee Public Library, 801 West Okmulgee Avenue, Muskogee, OK 7
 4401, United States
ROOM: Southeast Room
DESCRIPTION:Travel back in time with Muskogee Historian and author Jonita 
 Mullins as we re-visit Muskogee&#039;s Hyde Park. Hyde Park was once a mus
 t visit destination with lush purple lawns, indoor swimming pool, dining e
 stablishments, and a roller coaster.Event is free to attend.
URL:https://eols.librarycalendar.com/event/remembering-hyde-park-32485
END:VEVENT
END:VCALENDAR
